BEGIN:VCALENDAR
VERSION:2.0
PRODID:-//wp-events-plugin.com//7.2.3.1//EN
TZID:Europe/London
X-WR-TIMEZONE:Europe/London
BEGIN:VEVENT
UID:638@g0mwt.org.uk
DTSTART;TZID=Europe/London:20261215T200000
DTEND;TZID=Europe/London:20261215T210000
DTSTAMP:20250704T130111Z
URL:http://www.g0mwt.org.uk/main/events/70cm-net-2025-10-21-2025-11-18-202
 5-12-16-2026-01-20-2026-02-17-2026-03-17-2026-04-21-2026-05-19-2026-06-16-
 2026-07-21-2026-08-18-2026-09-15-2026-10-20-2026-11-17-2026-12-15/
SUMMARY:70cm Net
DESCRIPTION:CARS Monthly UHF Net on GB3ER - third Tuesday of each month
CATEGORIES:Nets
LOCATION:http://www.g0mwt.org.uk/nets
END:VEVENT
BEGIN:VTIMEZONE
TZID:Europe/London
X-LIC-LOCATION:Europe/London
BEGIN:STANDARD
DTSTART:20261025T010000
TZOFFSETFROM:+0100
TZOFFSETTO:+0000
TZNAME:GMT
END:STANDARD
END:VTIMEZONE
END:VCALENDAR