BEGIN:VCALENDAR
VERSION:2.0
PRODID:-//wp-events-plugin.com//7.2.3.1//EN
TZID:Europe/London
X-WR-TIMEZONE:Europe/London
BEGIN:VEVENT
UID:192@g0mwt.org.uk
DTSTART;TZID=Europe/London:20201103T193000
DTEND;TZID=Europe/London:20201103T210000
DTSTAMP:20201021T081942Z
URL:http://www.g0mwt.org.uk/main/events/alan-turing/
SUMMARY:Meeting: Alan Turing
DESCRIPTION:Alan Turing and his Machine\n\nFor November\, we are pleased to
  host a Zoom-online talk by Damian Bevan G4WPO for a fascinating insight i
 nto the work of Alan Turing.\n\nDamian will describe the so-called ‘Turi
 ng Machine’ (from his famous 1936 paper)\, and explore Turing’s life\,
  his death and his legacy today.\n\nOn the way\, we briefly cover the impa
 ct of computation on the field of wireless\, both during Turing’s work a
 t Bletchley Park in World War 2\, and in the modern day.\n\n&nbsp\;
CATEGORIES:Meetings
LOCATION:http://www.g0mwt.org.uk
END:VEVENT
BEGIN:VTIMEZONE
TZID:Europe/London
X-LIC-LOCATION:Europe/London
BEGIN:STANDARD
DTSTART:20201025T010000
TZOFFSETFROM:+0100
TZOFFSETTO:+0000
TZNAME:GMT
END:STANDARD
END:VTIMEZONE
END:VCALENDAR