BEGIN:VCALENDAR
VERSION:2.0
PRODID:-//wp-events-plugin.com//7.2.3.1//EN
TZID:Europe/London
X-WR-TIMEZONE:Europe/London
BEGIN:VEVENT
UID:3@g0mwt.org.uk
DTSTART;TZID=Europe/London:20201013T200000
DTEND;TZID=Europe/London:20201013T210000
DTSTAMP:20250704T125842Z
URL:http://www.g0mwt.org.uk/main/events/2m-net-2020-10-13/
SUMMARY:2m Net
DESCRIPTION:CARS Monthly VHF Net on GB3DA - second Tuesday of each month
CATEGORIES:Nets
LOCATION:http://www.g0mwt.org.uk/nets
END:VEVENT
BEGIN:VEVENT
UID:452@g0mwt.org.uk
DTSTART;TZID=Europe/London:20201020T200000
DTEND;TZID=Europe/London:20201020T210000
DTSTAMP:20250704T130111Z
URL:http://www.g0mwt.org.uk/main/events/70cm-net-2020-10-20/
SUMMARY:70cm Net
DESCRIPTION:CARS Monthly UHF Net on GB3ER - third Tuesday of each month
CATEGORIES:Nets
LOCATION:http://www.g0mwt.org.uk/nets
END:VEVENT
BEGIN:VEVENT
UID:315@g0mwt.org.uk
DTSTART;TZID=Europe/London:20201027T200000
DTEND;TZID=Europe/London:20201027T210000
DTSTAMP:20231203T074207Z
URL:http://www.g0mwt.org.uk/main/events/80m-net-2020-10-27/
SUMMARY:80m Net
DESCRIPTION:CARS Monthly HF Net on 80m – fourth Tuesday of each month
CATEGORIES:Nets
LOCATION:http://www.g0mwt.org.uk/nets
END:VEVENT
BEGIN:VEVENT
UID:4@g0mwt.org.uk
DTSTART;TZID=Europe/London:20201110T200000
DTEND;TZID=Europe/London:20201110T210000
DTSTAMP:20250704T125842Z
URL:http://www.g0mwt.org.uk/main/events/2m-net-2020-11-10/
SUMMARY:2m Net
DESCRIPTION:CARS Monthly VHF Net on GB3DA - second Tuesday of each month
CATEGORIES:Nets
LOCATION:http://www.g0mwt.org.uk/nets
END:VEVENT
BEGIN:VEVENT
UID:453@g0mwt.org.uk
DTSTART;TZID=Europe/London:20201117T200000
DTEND;TZID=Europe/London:20201117T210000
DTSTAMP:20250704T130111Z
URL:http://www.g0mwt.org.uk/main/events/70cm-net-2020-11-17/
SUMMARY:70cm Net
DESCRIPTION:CARS Monthly UHF Net on GB3ER - third Tuesday of each month
CATEGORIES:Nets
LOCATION:http://www.g0mwt.org.uk/nets
END:VEVENT
BEGIN:VEVENT
UID:316@g0mwt.org.uk
DTSTART;TZID=Europe/London:20201124T200000
DTEND;TZID=Europe/London:20201124T210000
DTSTAMP:20231203T074207Z
URL:http://www.g0mwt.org.uk/main/events/80m-net-2020-11-24/
SUMMARY:80m Net
DESCRIPTION:CARS Monthly HF Net on 80m – fourth Tuesday of each month
CATEGORIES:Nets
LOCATION:http://www.g0mwt.org.uk/nets
END:VEVENT
BEGIN:VEVENT
UID:5@g0mwt.org.uk
DTSTART;TZID=Europe/London:20201208T200000
DTEND;TZID=Europe/London:20201208T210000
DTSTAMP:20250704T125842Z
URL:http://www.g0mwt.org.uk/main/events/2m-net-2020-12-08/
SUMMARY:2m Net
DESCRIPTION:CARS Monthly VHF Net on GB3DA - second Tuesday of each month
CATEGORIES:Nets
LOCATION:http://www.g0mwt.org.uk/nets
END:VEVENT
BEGIN:VEVENT
UID:454@g0mwt.org.uk
DTSTART;TZID=Europe/London:20201215T200000
DTEND;TZID=Europe/London:20201215T210000
DTSTAMP:20250704T130111Z
URL:http://www.g0mwt.org.uk/main/events/70cm-net-2020-12-15/
SUMMARY:70cm Net
DESCRIPTION:CARS Monthly UHF Net on GB3ER - third Tuesday of each month
CATEGORIES:Nets
LOCATION:http://www.g0mwt.org.uk/nets
END:VEVENT
BEGIN:VEVENT
UID:317@g0mwt.org.uk
DTSTART;TZID=Europe/London:20201222T200000
DTEND;TZID=Europe/London:20201222T210000
DTSTAMP:20231203T074207Z
URL:http://www.g0mwt.org.uk/main/events/80m-net-2020-12-22/
SUMMARY:80m Net
DESCRIPTION:CARS Monthly HF Net on 80m – fourth Tuesday of each month
CATEGORIES:Nets
LOCATION:http://www.g0mwt.org.uk/nets
END:VEVENT
BEGIN:VEVENT
UID:281@g0mwt.org.uk
DTSTART;TZID=Europe/London:20201229T200000
DTEND;TZID=Europe/London:20201229T210000
DTSTAMP:20231203T074012Z
URL:http://www.g0mwt.org.uk/main/events/160m-net-2020-12-29/
SUMMARY:160m Net
DESCRIPTION:CARS Top Band Net – fifth Tuesday of a month
CATEGORIES:Nets
LOCATION:http://www.g0mwt.org.uk/nets
END:VEVENT
BEGIN:VEVENT
UID:6@g0mwt.org.uk
DTSTART;TZID=Europe/London:20210112T200000
DTEND;TZID=Europe/London:20210112T210000
DTSTAMP:20250704T125842Z
URL:http://www.g0mwt.org.uk/main/events/2m-net-2021-01-12/
SUMMARY:2m Net
DESCRIPTION:CARS Monthly VHF Net on GB3DA - second Tuesday of each month
CATEGORIES:Nets
LOCATION:http://www.g0mwt.org.uk/nets
END:VEVENT
BEGIN:VEVENT
UID:455@g0mwt.org.uk
DTSTART;TZID=Europe/London:20210119T200000
DTEND;TZID=Europe/London:20210119T210000
DTSTAMP:20250704T130111Z
URL:http://www.g0mwt.org.uk/main/events/70cm-net-2021-01-19/
SUMMARY:70cm Net
DESCRIPTION:CARS Monthly UHF Net on GB3ER - third Tuesday of each month
CATEGORIES:Nets
LOCATION:http://www.g0mwt.org.uk/nets
END:VEVENT
BEGIN:VEVENT
UID:318@g0mwt.org.uk
DTSTART;TZID=Europe/London:20210126T200000
DTEND;TZID=Europe/London:20210126T210000
DTSTAMP:20231203T074207Z
URL:http://www.g0mwt.org.uk/main/events/80m-net-2021-01-26/
SUMMARY:80m Net
DESCRIPTION:CARS Monthly HF Net on 80m – fourth Tuesday of each month
CATEGORIES:Nets
LOCATION:http://www.g0mwt.org.uk/nets
END:VEVENT
BEGIN:VEVENT
UID:7@g0mwt.org.uk
DTSTART;TZID=Europe/London:20210209T200000
DTEND;TZID=Europe/London:20210209T210000
DTSTAMP:20250704T125842Z
URL:http://www.g0mwt.org.uk/main/events/2m-net-2021-02-09/
SUMMARY:2m Net
DESCRIPTION:CARS Monthly VHF Net on GB3DA - second Tuesday of each month
CATEGORIES:Nets
LOCATION:http://www.g0mwt.org.uk/nets
END:VEVENT
BEGIN:VEVENT
UID:456@g0mwt.org.uk
DTSTART;TZID=Europe/London:20210216T200000
DTEND;TZID=Europe/London:20210216T210000
DTSTAMP:20250704T130111Z
URL:http://www.g0mwt.org.uk/main/events/70cm-net-2021-02-16/
SUMMARY:70cm Net
DESCRIPTION:CARS Monthly UHF Net on GB3ER - third Tuesday of each month
CATEGORIES:Nets
LOCATION:http://www.g0mwt.org.uk/nets
END:VEVENT
BEGIN:VEVENT
UID:319@g0mwt.org.uk
DTSTART;TZID=Europe/London:20210223T200000
DTEND;TZID=Europe/London:20210223T210000
DTSTAMP:20231203T074207Z
URL:http://www.g0mwt.org.uk/main/events/80m-net-2021-02-23/
SUMMARY:80m Net
DESCRIPTION:CARS Monthly HF Net on 80m – fourth Tuesday of each month
CATEGORIES:Nets
LOCATION:http://www.g0mwt.org.uk/nets
END:VEVENT
BEGIN:VEVENT
UID:8@g0mwt.org.uk
DTSTART;TZID=Europe/London:20210309T200000
DTEND;TZID=Europe/London:20210309T210000
DTSTAMP:20250704T125842Z
URL:http://www.g0mwt.org.uk/main/events/2m-net-2021-03-09/
SUMMARY:2m Net
DESCRIPTION:CARS Monthly VHF Net on GB3DA - second Tuesday of each month
CATEGORIES:Nets
LOCATION:http://www.g0mwt.org.uk/nets
END:VEVENT
BEGIN:VEVENT
UID:457@g0mwt.org.uk
DTSTART;TZID=Europe/London:20210316T200000
DTEND;TZID=Europe/London:20210316T210000
DTSTAMP:20250704T130111Z
URL:http://www.g0mwt.org.uk/main/events/70cm-net-2021-03-16/
SUMMARY:70cm Net
DESCRIPTION:CARS Monthly UHF Net on GB3ER - third Tuesday of each month
CATEGORIES:Nets
LOCATION:http://www.g0mwt.org.uk/nets
END:VEVENT
BEGIN:VEVENT
UID:320@g0mwt.org.uk
DTSTART;TZID=Europe/London:20210323T200000
DTEND;TZID=Europe/London:20210323T210000
DTSTAMP:20231203T074207Z
URL:http://www.g0mwt.org.uk/main/events/80m-net-2021-03-23/
SUMMARY:80m Net
DESCRIPTION:CARS Monthly HF Net on 80m – fourth Tuesday of each month
CATEGORIES:Nets
LOCATION:http://www.g0mwt.org.uk/nets
END:VEVENT
BEGIN:VEVENT
UID:282@g0mwt.org.uk
DTSTART;TZID=Europe/London:20210330T200000
DTEND;TZID=Europe/London:20210330T210000
DTSTAMP:20231203T074012Z
URL:http://www.g0mwt.org.uk/main/events/160m-net-2021-03-30/
SUMMARY:160m Net
DESCRIPTION:CARS Top Band Net – fifth Tuesday of a month
CATEGORIES:Nets
LOCATION:http://www.g0mwt.org.uk/nets
END:VEVENT
BEGIN:VEVENT
UID:9@g0mwt.org.uk
DTSTART;TZID=Europe/London:20210413T200000
DTEND;TZID=Europe/London:20210413T210000
DTSTAMP:20250704T125842Z
URL:http://www.g0mwt.org.uk/main/events/2m-net-2021-04-13/
SUMMARY:2m Net
DESCRIPTION:CARS Monthly VHF Net on GB3DA - second Tuesday of each month
CATEGORIES:Nets
LOCATION:http://www.g0mwt.org.uk/nets
END:VEVENT
BEGIN:VEVENT
UID:458@g0mwt.org.uk
DTSTART;TZID=Europe/London:20210420T200000
DTEND;TZID=Europe/London:20210420T210000
DTSTAMP:20250704T130111Z
URL:http://www.g0mwt.org.uk/main/events/70cm-net-2021-04-20/
SUMMARY:70cm Net
DESCRIPTION:CARS Monthly UHF Net on GB3ER - third Tuesday of each month
CATEGORIES:Nets
LOCATION:http://www.g0mwt.org.uk/nets
END:VEVENT
BEGIN:VEVENT
UID:321@g0mwt.org.uk
DTSTART;TZID=Europe/London:20210427T200000
DTEND;TZID=Europe/London:20210427T210000
DTSTAMP:20231203T074207Z
URL:http://www.g0mwt.org.uk/main/events/80m-net-2021-04-27/
SUMMARY:80m Net
DESCRIPTION:CARS Monthly HF Net on 80m – fourth Tuesday of each month
CATEGORIES:Nets
LOCATION:http://www.g0mwt.org.uk/nets
END:VEVENT
BEGIN:VEVENT
UID:10@g0mwt.org.uk
DTSTART;TZID=Europe/London:20210511T200000
DTEND;TZID=Europe/London:20210511T210000
DTSTAMP:20250704T125842Z
URL:http://www.g0mwt.org.uk/main/events/2m-net-2021-05-11/
SUMMARY:2m Net
DESCRIPTION:CARS Monthly VHF Net on GB3DA - second Tuesday of each month
CATEGORIES:Nets
LOCATION:http://www.g0mwt.org.uk/nets
END:VEVENT
BEGIN:VEVENT
UID:459@g0mwt.org.uk
DTSTART;TZID=Europe/London:20210518T200000
DTEND;TZID=Europe/London:20210518T210000
DTSTAMP:20250704T130111Z
URL:http://www.g0mwt.org.uk/main/events/70cm-net-2021-05-18/
SUMMARY:70cm Net
DESCRIPTION:CARS Monthly UHF Net on GB3ER - third Tuesday of each month
CATEGORIES:Nets
LOCATION:http://www.g0mwt.org.uk/nets
END:VEVENT
BEGIN:VEVENT
UID:322@g0mwt.org.uk
DTSTART;TZID=Europe/London:20210525T200000
DTEND;TZID=Europe/London:20210525T210000
DTSTAMP:20231203T074207Z
URL:http://www.g0mwt.org.uk/main/events/80m-net-2021-05-25/
SUMMARY:80m Net
DESCRIPTION:CARS Monthly HF Net on 80m – fourth Tuesday of each month
CATEGORIES:Nets
LOCATION:http://www.g0mwt.org.uk/nets
END:VEVENT
BEGIN:VEVENT
UID:11@g0mwt.org.uk
DTSTART;TZID=Europe/London:20210608T200000
DTEND;TZID=Europe/London:20210608T210000
DTSTAMP:20250704T125842Z
URL:http://www.g0mwt.org.uk/main/events/2m-net-2021-06-08/
SUMMARY:2m Net
DESCRIPTION:CARS Monthly VHF Net on GB3DA - second Tuesday of each month
CATEGORIES:Nets
LOCATION:http://www.g0mwt.org.uk/nets
END:VEVENT
BEGIN:VEVENT
UID:460@g0mwt.org.uk
DTSTART;TZID=Europe/London:20210615T200000
DTEND;TZID=Europe/London:20210615T210000
DTSTAMP:20250704T130111Z
URL:http://www.g0mwt.org.uk/main/events/70cm-net-2021-06-15/
SUMMARY:70cm Net
DESCRIPTION:CARS Monthly UHF Net on GB3ER - third Tuesday of each month
CATEGORIES:Nets
LOCATION:http://www.g0mwt.org.uk/nets
END:VEVENT
BEGIN:VEVENT
UID:323@g0mwt.org.uk
DTSTART;TZID=Europe/London:20210622T200000
DTEND;TZID=Europe/London:20210622T210000
DTSTAMP:20231203T074207Z
URL:http://www.g0mwt.org.uk/main/events/80m-net-2021-06-22/
SUMMARY:80m Net
DESCRIPTION:CARS Monthly HF Net on 80m – fourth Tuesday of each month
CATEGORIES:Nets
LOCATION:http://www.g0mwt.org.uk/nets
END:VEVENT
BEGIN:VEVENT
UID:283@g0mwt.org.uk
DTSTART;TZID=Europe/London:20210629T200000
DTEND;TZID=Europe/London:20210629T210000
DTSTAMP:20231203T074012Z
URL:http://www.g0mwt.org.uk/main/events/160m-net-2021-06-29/
SUMMARY:160m Net
DESCRIPTION:CARS Top Band Net – fifth Tuesday of a month
CATEGORIES:Nets
LOCATION:http://www.g0mwt.org.uk/nets
END:VEVENT
BEGIN:VEVENT
UID:12@g0mwt.org.uk
DTSTART;TZID=Europe/London:20210713T200000
DTEND;TZID=Europe/London:20210713T210000
DTSTAMP:20250704T125842Z
URL:http://www.g0mwt.org.uk/main/events/2m-net-2021-07-13/
SUMMARY:2m Net
DESCRIPTION:CARS Monthly VHF Net on GB3DA - second Tuesday of each month
CATEGORIES:Nets
LOCATION:http://www.g0mwt.org.uk/nets
END:VEVENT
BEGIN:VEVENT
UID:461@g0mwt.org.uk
DTSTART;TZID=Europe/London:20210720T200000
DTEND;TZID=Europe/London:20210720T210000
DTSTAMP:20250704T130111Z
URL:http://www.g0mwt.org.uk/main/events/70cm-net-2021-07-20/
SUMMARY:70cm Net
DESCRIPTION:CARS Monthly UHF Net on GB3ER - third Tuesday of each month
CATEGORIES:Nets
LOCATION:http://www.g0mwt.org.uk/nets
END:VEVENT
BEGIN:VEVENT
UID:324@g0mwt.org.uk
DTSTART;TZID=Europe/London:20210727T200000
DTEND;TZID=Europe/London:20210727T210000
DTSTAMP:20231203T074207Z
URL:http://www.g0mwt.org.uk/main/events/80m-net-2021-07-27/
SUMMARY:80m Net
DESCRIPTION:CARS Monthly HF Net on 80m – fourth Tuesday of each month
CATEGORIES:Nets
LOCATION:http://www.g0mwt.org.uk/nets
END:VEVENT
BEGIN:VEVENT
UID:13@g0mwt.org.uk
DTSTART;TZID=Europe/London:20210810T200000
DTEND;TZID=Europe/London:20210810T210000
DTSTAMP:20250704T125842Z
URL:http://www.g0mwt.org.uk/main/events/2m-net-2021-08-10/
SUMMARY:2m Net
DESCRIPTION:CARS Monthly VHF Net on GB3DA - second Tuesday of each month
CATEGORIES:Nets
LOCATION:http://www.g0mwt.org.uk/nets
END:VEVENT
BEGIN:VEVENT
UID:462@g0mwt.org.uk
DTSTART;TZID=Europe/London:20210817T200000
DTEND;TZID=Europe/London:20210817T210000
DTSTAMP:20250704T130111Z
URL:http://www.g0mwt.org.uk/main/events/70cm-net-2021-08-17/
SUMMARY:70cm Net
DESCRIPTION:CARS Monthly UHF Net on GB3ER - third Tuesday of each month
CATEGORIES:Nets
LOCATION:http://www.g0mwt.org.uk/nets
END:VEVENT
BEGIN:VEVENT
UID:325@g0mwt.org.uk
DTSTART;TZID=Europe/London:20210824T200000
DTEND;TZID=Europe/London:20210824T210000
DTSTAMP:20231203T074207Z
URL:http://www.g0mwt.org.uk/main/events/80m-net-2021-08-24/
SUMMARY:80m Net
DESCRIPTION:CARS Monthly HF Net on 80m – fourth Tuesday of each month
CATEGORIES:Nets
LOCATION:http://www.g0mwt.org.uk/nets
END:VEVENT
BEGIN:VEVENT
UID:284@g0mwt.org.uk
DTSTART;TZID=Europe/London:20210831T200000
DTEND;TZID=Europe/London:20210831T210000
DTSTAMP:20231203T074012Z
URL:http://www.g0mwt.org.uk/main/events/160m-net-2021-08-31/
SUMMARY:160m Net
DESCRIPTION:CARS Top Band Net – fifth Tuesday of a month
CATEGORIES:Nets
LOCATION:http://www.g0mwt.org.uk/nets
END:VEVENT
BEGIN:VEVENT
UID:14@g0mwt.org.uk
DTSTART;TZID=Europe/London:20210914T200000
DTEND;TZID=Europe/London:20210914T210000
DTSTAMP:20250704T125842Z
URL:http://www.g0mwt.org.uk/main/events/2m-net-2021-09-14/
SUMMARY:2m Net
DESCRIPTION:CARS Monthly VHF Net on GB3DA - second Tuesday of each month
CATEGORIES:Nets
LOCATION:http://www.g0mwt.org.uk/nets
END:VEVENT
BEGIN:VEVENT
UID:463@g0mwt.org.uk
DTSTART;TZID=Europe/London:20210921T200000
DTEND;TZID=Europe/London:20210921T210000
DTSTAMP:20250704T130111Z
URL:http://www.g0mwt.org.uk/main/events/70cm-net-2021-09-21/
SUMMARY:70cm Net
DESCRIPTION:CARS Monthly UHF Net on GB3ER - third Tuesday of each month
CATEGORIES:Nets
LOCATION:http://www.g0mwt.org.uk/nets
END:VEVENT
BEGIN:VEVENT
UID:326@g0mwt.org.uk
DTSTART;TZID=Europe/London:20210928T200000
DTEND;TZID=Europe/London:20210928T210000
DTSTAMP:20231203T074207Z
URL:http://www.g0mwt.org.uk/main/events/80m-net-2021-09-28/
SUMMARY:80m Net
DESCRIPTION:CARS Monthly HF Net on 80m – fourth Tuesday of each month
CATEGORIES:Nets
LOCATION:http://www.g0mwt.org.uk/nets
END:VEVENT
BEGIN:VEVENT
UID:15@g0mwt.org.uk
DTSTART;TZID=Europe/London:20211012T200000
DTEND;TZID=Europe/London:20211012T210000
DTSTAMP:20250704T125842Z
URL:http://www.g0mwt.org.uk/main/events/2m-net-2021-10-12/
SUMMARY:2m Net
DESCRIPTION:CARS Monthly VHF Net on GB3DA - second Tuesday of each month
CATEGORIES:Nets
LOCATION:http://www.g0mwt.org.uk/nets
END:VEVENT
BEGIN:VEVENT
UID:464@g0mwt.org.uk
DTSTART;TZID=Europe/London:20211019T200000
DTEND;TZID=Europe/London:20211019T210000
DTSTAMP:20250704T130111Z
URL:http://www.g0mwt.org.uk/main/events/70cm-net-2021-10-19/
SUMMARY:70cm Net
DESCRIPTION:CARS Monthly UHF Net on GB3ER - third Tuesday of each month
CATEGORIES:Nets
LOCATION:http://www.g0mwt.org.uk/nets
END:VEVENT
BEGIN:VEVENT
UID:327@g0mwt.org.uk
DTSTART;TZID=Europe/London:20211026T200000
DTEND;TZID=Europe/London:20211026T210000
DTSTAMP:20231203T074207Z
URL:http://www.g0mwt.org.uk/main/events/80m-net-2021-10-26/
SUMMARY:80m Net
DESCRIPTION:CARS Monthly HF Net on 80m – fourth Tuesday of each month
CATEGORIES:Nets
LOCATION:http://www.g0mwt.org.uk/nets
END:VEVENT
BEGIN:VEVENT
UID:16@g0mwt.org.uk
DTSTART;TZID=Europe/London:20211109T200000
DTEND;TZID=Europe/London:20211109T210000
DTSTAMP:20250704T125842Z
URL:http://www.g0mwt.org.uk/main/events/2m-net-2021-11-09/
SUMMARY:2m Net
DESCRIPTION:CARS Monthly VHF Net on GB3DA - second Tuesday of each month
CATEGORIES:Nets
LOCATION:http://www.g0mwt.org.uk/nets
END:VEVENT
BEGIN:VEVENT
UID:465@g0mwt.org.uk
DTSTART;TZID=Europe/London:20211116T200000
DTEND;TZID=Europe/London:20211116T210000
DTSTAMP:20250704T130111Z
URL:http://www.g0mwt.org.uk/main/events/70cm-net-2021-11-16/
SUMMARY:70cm Net
DESCRIPTION:CARS Monthly UHF Net on GB3ER - third Tuesday of each month
CATEGORIES:Nets
LOCATION:http://www.g0mwt.org.uk/nets
END:VEVENT
BEGIN:VEVENT
UID:328@g0mwt.org.uk
DTSTART;TZID=Europe/London:20211123T200000
DTEND;TZID=Europe/London:20211123T210000
DTSTAMP:20231203T074207Z
URL:http://www.g0mwt.org.uk/main/events/80m-net-2021-11-23/
SUMMARY:80m Net
DESCRIPTION:CARS Monthly HF Net on 80m – fourth Tuesday of each month
CATEGORIES:Nets
LOCATION:http://www.g0mwt.org.uk/nets
END:VEVENT
BEGIN:VEVENT
UID:285@g0mwt.org.uk
DTSTART;TZID=Europe/London:20211130T200000
DTEND;TZID=Europe/London:20211130T210000
DTSTAMP:20231203T074012Z
URL:http://www.g0mwt.org.uk/main/events/160m-net-2021-11-30/
SUMMARY:160m Net
DESCRIPTION:CARS Top Band Net – fifth Tuesday of a month
CATEGORIES:Nets
LOCATION:http://www.g0mwt.org.uk/nets
END:VEVENT
BEGIN:VEVENT
UID:17@g0mwt.org.uk
DTSTART;TZID=Europe/London:20211214T200000
DTEND;TZID=Europe/London:20211214T210000
DTSTAMP:20250704T125842Z
URL:http://www.g0mwt.org.uk/main/events/2m-net-2021-12-14/
SUMMARY:2m Net
DESCRIPTION:CARS Monthly VHF Net on GB3DA - second Tuesday of each month
CATEGORIES:Nets
LOCATION:http://www.g0mwt.org.uk/nets
END:VEVENT
BEGIN:VEVENT
UID:466@g0mwt.org.uk
DTSTART;TZID=Europe/London:20211221T200000
DTEND;TZID=Europe/London:20211221T210000
DTSTAMP:20250704T130111Z
URL:http://www.g0mwt.org.uk/main/events/70cm-net-2021-12-21/
SUMMARY:70cm Net
DESCRIPTION:CARS Monthly UHF Net on GB3ER - third Tuesday of each month
CATEGORIES:Nets
LOCATION:http://www.g0mwt.org.uk/nets
END:VEVENT
BEGIN:VEVENT
UID:329@g0mwt.org.uk
DTSTART;TZID=Europe/London:20211228T200000
DTEND;TZID=Europe/London:20211228T210000
DTSTAMP:20231203T074207Z
URL:http://www.g0mwt.org.uk/main/events/80m-net-2021-12-28/
SUMMARY:80m Net
DESCRIPTION:CARS Monthly HF Net on 80m – fourth Tuesday of each month
CATEGORIES:Nets
LOCATION:http://www.g0mwt.org.uk/nets
END:VEVENT
BEGIN:VTIMEZONE
TZID:Europe/London
X-LIC-LOCATION:Europe/London
BEGIN:DAYLIGHT
DTSTART:20200329T020000
TZOFFSETFROM:+0000
TZOFFSETTO:+0100
TZNAME:BST
END:DAYLIGHT
BEGIN:STANDARD
DTSTART:20201025T010000
TZOFFSETFROM:+0100
TZOFFSETTO:+0000
TZNAME:GMT
END:STANDARD
BEGIN:DAYLIGHT
DTSTART:20210328T020000
TZOFFSETFROM:+0000
TZOFFSETTO:+0100
TZNAME:BST
END:DAYLIGHT
BEGIN:STANDARD
DTSTART:20211031T010000
TZOFFSETFROM:+0100
TZOFFSETTO:+0000
TZNAME:GMT
END:STANDARD
END:VTIMEZONE
END:VCALENDAR