BEGIN:VCALENDAR
VERSION:2.0
PRODID:-//wp-events-plugin.com//7.2.3.1//EN
TZID:Europe/London
X-WR-TIMEZONE:Europe/London
BEGIN:VEVENT
UID:216@g0mwt.org.uk
DTSTART;TZID=Europe/London:20211007T190000
DTEND;TZID=Europe/London:20211007T210000
DTSTAMP:20210911T195330Z
URL:http://www.g0mwt.org.uk/main/events/foundation-course-2021-10-07/
SUMMARY:Foundation Course
DESCRIPTION:Foundation Fast-track\n\n- Course 41F
CATEGORIES:Training
LOCATION:Danbury Village Hall\, Main Road\, Danbury\, Essex\, CM3 4NQ\, Uni
 ted Kingdom
GEO:51.716632;0.580293
X-APPLE-STRUCTURED-LOCATION;VALUE=URI;X-ADDRESS=Main Road\, Danbury\, Essex
 \, CM3 4NQ\, United Kingdom;X-APPLE-RADIUS=100;X-TITLE=Danbury Village Hal
 l:geo:51.716632,0.580293
END:VEVENT
BEGIN:VEVENT
UID:217@g0mwt.org.uk
DTSTART;TZID=Europe/London:20211014T190000
DTEND;TZID=Europe/London:20211014T210000
DTSTAMP:20210911T195330Z
URL:http://www.g0mwt.org.uk/main/events/foundation-course-2021-10-14/
SUMMARY:Foundation Course
DESCRIPTION:Foundation Fast-track\n\n- Course 41F
CATEGORIES:Training
LOCATION:Danbury Village Hall\, Main Road\, Danbury\, Essex\, CM3 4NQ\, Uni
 ted Kingdom
GEO:51.716632;0.580293
X-APPLE-STRUCTURED-LOCATION;VALUE=URI;X-ADDRESS=Main Road\, Danbury\, Essex
 \, CM3 4NQ\, United Kingdom;X-APPLE-RADIUS=100;X-TITLE=Danbury Village Hal
 l:geo:51.716632,0.580293
END:VEVENT
BEGIN:VEVENT
UID:219@g0mwt.org.uk
DTSTART;TZID=Europe/London:20211111T190000
DTEND;TZID=Europe/London:20211111T210000
DTSTAMP:20210911T195511Z
URL:http://www.g0mwt.org.uk/main/events/foundation-course-2-2021-11-11/
SUMMARY:Foundation Course
DESCRIPTION:Foundation Fast-track\n\n- Course 42F
CATEGORIES:Training
LOCATION:Danbury Village Hall\, Main Road\, Danbury\, Essex\, CM3 4NQ\, Uni
 ted Kingdom
GEO:51.716632;0.580293
X-APPLE-STRUCTURED-LOCATION;VALUE=URI;X-ADDRESS=Main Road\, Danbury\, Essex
 \, CM3 4NQ\, United Kingdom;X-APPLE-RADIUS=100;X-TITLE=Danbury Village Hal
 l:geo:51.716632,0.580293
END:VEVENT
BEGIN:VEVENT
UID:220@g0mwt.org.uk
DTSTART;TZID=Europe/London:20211118T190000
DTEND;TZID=Europe/London:20211118T210000
DTSTAMP:20210911T195511Z
URL:http://www.g0mwt.org.uk/main/events/foundation-course-2-2021-11-18/
SUMMARY:Foundation Course
DESCRIPTION:Foundation Fast-track\n\n- Course 42F
CATEGORIES:Training
LOCATION:Danbury Village Hall\, Main Road\, Danbury\, Essex\, CM3 4NQ\, Uni
 ted Kingdom
GEO:51.716632;0.580293
X-APPLE-STRUCTURED-LOCATION;VALUE=URI;X-ADDRESS=Main Road\, Danbury\, Essex
 \, CM3 4NQ\, United Kingdom;X-APPLE-RADIUS=100;X-TITLE=Danbury Village Hal
 l:geo:51.716632,0.580293
END:VEVENT
BEGIN:VEVENT
UID:222@g0mwt.org.uk
DTSTART;TZID=Europe/London:20211202T190000
DTEND;TZID=Europe/London:20211202T210000
DTSTAMP:20210911T195759Z
URL:http://www.g0mwt.org.uk/main/events/intermediate-full-course-2021-12-0
 2/
SUMMARY:Intermediate/Full Course
DESCRIPTION:Intermediate/Full Fast-track\n\n&nbsp\;
CATEGORIES:Training
LOCATION:Danbury Village Hall\, Main Road\, Danbury\, Essex\, CM3 4NQ\, Uni
 ted Kingdom
GEO:51.716632;0.580293
X-APPLE-STRUCTURED-LOCATION;VALUE=URI;X-ADDRESS=Main Road\, Danbury\, Essex
 \, CM3 4NQ\, United Kingdom;X-APPLE-RADIUS=100;X-TITLE=Danbury Village Hal
 l:geo:51.716632,0.580293
END:VEVENT
BEGIN:VEVENT
UID:223@g0mwt.org.uk
DTSTART;TZID=Europe/London:20211209T190000
DTEND;TZID=Europe/London:20211209T210000
DTSTAMP:20210911T195759Z
URL:http://www.g0mwt.org.uk/main/events/intermediate-full-course-2021-12-0
 9/
SUMMARY:Intermediate/Full Course
DESCRIPTION:Intermediate/Full Fast-track\n\n&nbsp\;
CATEGORIES:Training
LOCATION:Danbury Village Hall\, Main Road\, Danbury\, Essex\, CM3 4NQ\, Uni
 ted Kingdom
GEO:51.716632;0.580293
X-APPLE-STRUCTURED-LOCATION;VALUE=URI;X-ADDRESS=Main Road\, Danbury\, Essex
 \, CM3 4NQ\, United Kingdom;X-APPLE-RADIUS=100;X-TITLE=Danbury Village Hal
 l:geo:51.716632,0.580293
END:VEVENT
BEGIN:VEVENT
UID:234@g0mwt.org.uk
DTSTART;TZID=Europe/London:20220331T190000
DTEND;TZID=Europe/London:20220331T210000
DTSTAMP:20220301T190636Z
URL:http://www.g0mwt.org.uk/main/events/fast-track-course-2022-03-31/
SUMMARY:Fast Track Course
DESCRIPTION:Two week fast-track booster course for Intermediate and Full ex
 ams
CATEGORIES:Training
LOCATION:Danbury Village Hall\, Main Road\, Danbury\, Essex\, CM3 4NQ\, Uni
 ted Kingdom
GEO:51.716632;0.580293
X-APPLE-STRUCTURED-LOCATION;VALUE=URI;X-ADDRESS=Main Road\, Danbury\, Essex
 \, CM3 4NQ\, United Kingdom;X-APPLE-RADIUS=100;X-TITLE=Danbury Village Hal
 l:geo:51.716632,0.580293
END:VEVENT
BEGIN:VEVENT
UID:235@g0mwt.org.uk
DTSTART;TZID=Europe/London:20220407T190000
DTEND;TZID=Europe/London:20220407T210000
DTSTAMP:20220301T190636Z
URL:http://www.g0mwt.org.uk/main/events/fast-track-course-2022-04-07/
SUMMARY:Fast Track Course
DESCRIPTION:Two week fast-track booster course for Intermediate and Full ex
 ams
CATEGORIES:Training
LOCATION:Danbury Village Hall\, Main Road\, Danbury\, Essex\, CM3 4NQ\, Uni
 ted Kingdom
GEO:51.716632;0.580293
X-APPLE-STRUCTURED-LOCATION;VALUE=URI;X-ADDRESS=Main Road\, Danbury\, Essex
 \, CM3 4NQ\, United Kingdom;X-APPLE-RADIUS=100;X-TITLE=Danbury Village Hal
 l:geo:51.716632,0.580293
END:VEVENT
BEGIN:VEVENT
UID:248@g0mwt.org.uk
DTSTART;TZID=Europe/London:20230202T190000
DTEND;TZID=Europe/London:20230202T210000
DTSTAMP:20221120T165326Z
URL:http://www.g0mwt.org.uk/main/events/foundation-fast-track-2023-02-02/
SUMMARY:Foundation Fast-track
DESCRIPTION:CARS Foundation Course-42F is a Fast-track format on two Thursd
 ay evenings - 2 &amp\; 9 Feb 2023 at Danbury Village Hall
CATEGORIES:Training
LOCATION:Danbury Village Hall\, Main Road\, Danbury\, Essex\, CM3 4NQ\, Uni
 ted Kingdom
GEO:51.716632;0.580293
X-APPLE-STRUCTURED-LOCATION;VALUE=URI;X-ADDRESS=Main Road\, Danbury\, Essex
 \, CM3 4NQ\, United Kingdom;X-APPLE-RADIUS=100;X-TITLE=Danbury Village Hal
 l:geo:51.716632,0.580293
END:VEVENT
BEGIN:VEVENT
UID:249@g0mwt.org.uk
DTSTART;TZID=Europe/London:20230209T190000
DTEND;TZID=Europe/London:20230209T210000
DTSTAMP:20221120T165326Z
URL:http://www.g0mwt.org.uk/main/events/foundation-fast-track-2023-02-09/
SUMMARY:Foundation Fast-track
DESCRIPTION:CARS Foundation Course-42F is a Fast-track format on two Thursd
 ay evenings - 2 &amp\; 9 Feb 2023 at Danbury Village Hall
CATEGORIES:Training
LOCATION:Danbury Village Hall\, Main Road\, Danbury\, Essex\, CM3 4NQ\, Uni
 ted Kingdom
GEO:51.716632;0.580293
X-APPLE-STRUCTURED-LOCATION;VALUE=URI;X-ADDRESS=Main Road\, Danbury\, Essex
 \, CM3 4NQ\, United Kingdom;X-APPLE-RADIUS=100;X-TITLE=Danbury Village Hal
 l:geo:51.716632,0.580293
END:VEVENT
BEGIN:VEVENT
UID:253@g0mwt.org.uk
DTSTART;TZID=Europe/London:20230316T190000
DTEND;TZID=Europe/London:20230316T210000
DTSTAMP:20221228T163544Z
URL:http://www.g0mwt.org.uk/main/events/intermediate-full-fast-track-2023-
 03-16/
SUMMARY:Intermediate/Full Fast Track
DESCRIPTION:CARS fast-track revision course for Intermediate/Full candidate
 s  - held over three consecutive Thursday evenings at Danbury Village Hal
 l.
CATEGORIES:Training
END:VEVENT
BEGIN:VEVENT
UID:254@g0mwt.org.uk
DTSTART;TZID=Europe/London:20230323T190000
DTEND;TZID=Europe/London:20230323T210000
DTSTAMP:20221228T163544Z
URL:http://www.g0mwt.org.uk/main/events/intermediate-full-fast-track-2023-
 03-23/
SUMMARY:Intermediate/Full Fast Track
DESCRIPTION:CARS fast-track revision course for Intermediate/Full candidate
 s  - held over three consecutive Thursday evenings at Danbury Village Hal
 l.
CATEGORIES:Training
END:VEVENT
BEGIN:VEVENT
UID:255@g0mwt.org.uk
DTSTART;TZID=Europe/London:20230330T190000
DTEND;TZID=Europe/London:20230330T210000
DTSTAMP:20221228T163544Z
URL:http://www.g0mwt.org.uk/main/events/intermediate-full-fast-track-2023-
 03-30/
SUMMARY:Intermediate/Full Fast Track
DESCRIPTION:CARS fast-track revision course for Intermediate/Full candidate
 s  - held over three consecutive Thursday evenings at Danbury Village Hal
 l.
CATEGORIES:Training
END:VEVENT
BEGIN:VEVENT
UID:270@g0mwt.org.uk
DTSTART;TZID=Europe/London:20230720T190000
DTEND;TZID=Europe/London:20230720T210000
DTSTAMP:20230531T192327Z
URL:http://www.g0mwt.org.uk/main/events/foundation-fast-track-2-2023-07-20
 /
SUMMARY:Foundation Fast-track
DESCRIPTION:CARS Foundation Course-43F is a Fast-track format on three Thur
 sday evenings -20 to Aug-3 2023 at Danbury Village Hall
CATEGORIES:Training
LOCATION:Danbury Village Hall\, Main Road\, Danbury\, Essex\, CM3 4NQ\, Uni
 ted Kingdom
GEO:51.716632;0.580293
X-APPLE-STRUCTURED-LOCATION;VALUE=URI;X-ADDRESS=Main Road\, Danbury\, Essex
 \, CM3 4NQ\, United Kingdom;X-APPLE-RADIUS=100;X-TITLE=Danbury Village Hal
 l:geo:51.716632,0.580293
END:VEVENT
BEGIN:VEVENT
UID:271@g0mwt.org.uk
DTSTART;TZID=Europe/London:20230727T190000
DTEND;TZID=Europe/London:20230727T210000
DTSTAMP:20230531T192327Z
URL:http://www.g0mwt.org.uk/main/events/foundation-fast-track-2-2023-07-27
 /
SUMMARY:Foundation Fast-track
DESCRIPTION:CARS Foundation Course-43F is a Fast-track format on three Thur
 sday evenings -20 to Aug-3 2023 at Danbury Village Hall
CATEGORIES:Training
LOCATION:Danbury Village Hall\, Main Road\, Danbury\, Essex\, CM3 4NQ\, Uni
 ted Kingdom
GEO:51.716632;0.580293
X-APPLE-STRUCTURED-LOCATION;VALUE=URI;X-ADDRESS=Main Road\, Danbury\, Essex
 \, CM3 4NQ\, United Kingdom;X-APPLE-RADIUS=100;X-TITLE=Danbury Village Hal
 l:geo:51.716632,0.580293
END:VEVENT
BEGIN:VEVENT
UID:272@g0mwt.org.uk
DTSTART;TZID=Europe/London:20230803T190000
DTEND;TZID=Europe/London:20230803T210000
DTSTAMP:20230531T192327Z
URL:http://www.g0mwt.org.uk/main/events/foundation-fast-track-2-2023-08-03
 /
SUMMARY:Foundation Fast-track
DESCRIPTION:CARS Foundation Course-43F is a Fast-track format on three Thur
 sday evenings -20 to Aug-3 2023 at Danbury Village Hall
CATEGORIES:Training
LOCATION:Danbury Village Hall\, Main Road\, Danbury\, Essex\, CM3 4NQ\, Uni
 ted Kingdom
GEO:51.716632;0.580293
X-APPLE-STRUCTURED-LOCATION;VALUE=URI;X-ADDRESS=Main Road\, Danbury\, Essex
 \, CM3 4NQ\, United Kingdom;X-APPLE-RADIUS=100;X-TITLE=Danbury Village Hal
 l:geo:51.716632,0.580293
END:VEVENT
BEGIN:VEVENT
UID:274@g0mwt.org.uk
DTSTART;TZID=Europe/London:20230928T190000
DTEND;TZID=Europe/London:20230928T210000
DTSTAMP:20240117T190242Z
URL:http://www.g0mwt.org.uk/main/events/intermediate-full-fast-track-2-202
 3-09-28/
SUMMARY:Intermediate/Full Fast Track
DESCRIPTION:CARS fast-track revision course for Intermediate/Full candidate
 s  - held over three consecutive Thursday evenings at Danbury Village Hal
 l.
CATEGORIES:Training
LOCATION:Danbury Village Hall\, Main Road\, Danbury\, Essex\, CM3 4NQ\, Uni
 ted Kingdom
GEO:51.716632;0.580293
X-APPLE-STRUCTURED-LOCATION;VALUE=URI;X-ADDRESS=Main Road\, Danbury\, Essex
 \, CM3 4NQ\, United Kingdom;X-APPLE-RADIUS=100;X-TITLE=Danbury Village Hal
 l:geo:51.716632,0.580293
END:VEVENT
BEGIN:VEVENT
UID:275@g0mwt.org.uk
DTSTART;TZID=Europe/London:20231005T190000
DTEND;TZID=Europe/London:20231005T210000
DTSTAMP:20240117T190242Z
URL:http://www.g0mwt.org.uk/main/events/intermediate-full-fast-track-2-202
 3-10-05/
SUMMARY:Intermediate/Full Fast Track
DESCRIPTION:CARS fast-track revision course for Intermediate/Full candidate
 s  - held over three consecutive Thursday evenings at Danbury Village Hal
 l.
CATEGORIES:Training
LOCATION:Danbury Village Hall\, Main Road\, Danbury\, Essex\, CM3 4NQ\, Uni
 ted Kingdom
GEO:51.716632;0.580293
X-APPLE-STRUCTURED-LOCATION;VALUE=URI;X-ADDRESS=Main Road\, Danbury\, Essex
 \, CM3 4NQ\, United Kingdom;X-APPLE-RADIUS=100;X-TITLE=Danbury Village Hal
 l:geo:51.716632,0.580293
END:VEVENT
BEGIN:VEVENT
UID:276@g0mwt.org.uk
DTSTART;TZID=Europe/London:20231012T190000
DTEND;TZID=Europe/London:20231012T210000
DTSTAMP:20240117T190242Z
URL:http://www.g0mwt.org.uk/main/events/intermediate-full-fast-track-2-202
 3-10-12/
SUMMARY:Intermediate/Full Fast Track
DESCRIPTION:CARS fast-track revision course for Intermediate/Full candidate
 s  - held over three consecutive Thursday evenings at Danbury Village Hal
 l.
CATEGORIES:Training
LOCATION:Danbury Village Hall\, Main Road\, Danbury\, Essex\, CM3 4NQ\, Uni
 ted Kingdom
GEO:51.716632;0.580293
X-APPLE-STRUCTURED-LOCATION;VALUE=URI;X-ADDRESS=Main Road\, Danbury\, Essex
 \, CM3 4NQ\, United Kingdom;X-APPLE-RADIUS=100;X-TITLE=Danbury Village Hal
 l:geo:51.716632,0.580293
END:VEVENT
BEGIN:VEVENT
UID:531@g0mwt.org.uk
DTSTART;TZID=Europe/London:20231012T190000
DTEND;TZID=Europe/London:20231012T210000
DTSTAMP:20240117T190242Z
URL:http://www.g0mwt.org.uk/main/events/intermediate-full-fast-track-2-202
 3-10-12/
SUMMARY:Intermediate/Full Fast Track
DESCRIPTION:CARS fast-track revision course for Intermediate/Full candidate
 s  - held over three consecutive Thursday evenings at Danbury Village Hal
 l.
CATEGORIES:Training
LOCATION:Danbury Village Hall\, Main Road\, Danbury\, Essex\, CM3 4NQ\, Uni
 ted Kingdom
GEO:51.716632;0.580293
X-APPLE-STRUCTURED-LOCATION;VALUE=URI;X-ADDRESS=Main Road\, Danbury\, Essex
 \, CM3 4NQ\, United Kingdom;X-APPLE-RADIUS=100;X-TITLE=Danbury Village Hal
 l:geo:51.716632,0.580293
END:VEVENT
BEGIN:VEVENT
UID:535@g0mwt.org.uk
DTSTART;TZID=Europe/London:20240222T190000
DTEND;TZID=Europe/London:20240222T210000
DTSTAMP:20240117T190426Z
URL:http://www.g0mwt.org.uk/main/events/intermediate-full-fast-track-4-202
 4-02-22/
SUMMARY:Intermediate/Full Fast Track
DESCRIPTION:CARS fast-track revision course for Intermediate/Full candidate
 s  - held over three consecutive Thursday evenings at Danbury Village Hal
 l.
CATEGORIES:Training
LOCATION:Danbury Village Hall\, Main Road\, Danbury\, Essex\, CM3 4NQ\, Uni
 ted Kingdom
GEO:51.716632;0.580293
X-APPLE-STRUCTURED-LOCATION;VALUE=URI;X-ADDRESS=Main Road\, Danbury\, Essex
 \, CM3 4NQ\, United Kingdom;X-APPLE-RADIUS=100;X-TITLE=Danbury Village Hal
 l:geo:51.716632,0.580293
END:VEVENT
BEGIN:VEVENT
UID:536@g0mwt.org.uk
DTSTART;TZID=Europe/London:20240229T190000
DTEND;TZID=Europe/London:20240229T210000
DTSTAMP:20240117T190426Z
URL:http://www.g0mwt.org.uk/main/events/intermediate-full-fast-track-4-202
 4-02-29/
SUMMARY:Intermediate/Full Fast Track
DESCRIPTION:CARS fast-track revision course for Intermediate/Full candidate
 s  - held over three consecutive Thursday evenings at Danbury Village Hal
 l.
CATEGORIES:Training
LOCATION:Danbury Village Hall\, Main Road\, Danbury\, Essex\, CM3 4NQ\, Uni
 ted Kingdom
GEO:51.716632;0.580293
X-APPLE-STRUCTURED-LOCATION;VALUE=URI;X-ADDRESS=Main Road\, Danbury\, Essex
 \, CM3 4NQ\, United Kingdom;X-APPLE-RADIUS=100;X-TITLE=Danbury Village Hal
 l:geo:51.716632,0.580293
END:VEVENT
BEGIN:VEVENT
UID:537@g0mwt.org.uk
DTSTART;TZID=Europe/London:20240307T190000
DTEND;TZID=Europe/London:20240307T210000
DTSTAMP:20240117T190426Z
URL:http://www.g0mwt.org.uk/main/events/intermediate-full-fast-track-4-202
 4-03-07/
SUMMARY:Intermediate/Full Fast Track
DESCRIPTION:CARS fast-track revision course for Intermediate/Full candidate
 s  - held over three consecutive Thursday evenings at Danbury Village Hal
 l.
CATEGORIES:Training
LOCATION:Danbury Village Hall\, Main Road\, Danbury\, Essex\, CM3 4NQ\, Uni
 ted Kingdom
GEO:51.716632;0.580293
X-APPLE-STRUCTURED-LOCATION;VALUE=URI;X-ADDRESS=Main Road\, Danbury\, Essex
 \, CM3 4NQ\, United Kingdom;X-APPLE-RADIUS=100;X-TITLE=Danbury Village Hal
 l:geo:51.716632,0.580293
END:VEVENT
BEGIN:VEVENT
UID:540@g0mwt.org.uk
DTSTART;TZID=Europe/London:20240321T190000
DTEND;TZID=Europe/London:20240321T210000
DTSTAMP:20240119T135430Z
URL:http://www.g0mwt.org.uk/main/events/foundation-fast-track-3-2024-03-21
 /
SUMMARY:Foundation Fast Track
DESCRIPTION:CARS fast-track revision course for Foundation candidates  - h
 eld over two consecutive Thursday evenings at Danbury Village Hall.\n\n&nb
 sp\;\n\nNOTE: Subject  to demand - please contact our coordinator John M0
 JOC asap - see www.g0mwt.org.uk/training\n\n&nbsp\;
CATEGORIES:Training
LOCATION:Danbury Village Hall\, Main Road\, Danbury\, Essex\, CM3 4NQ\, Uni
 ted Kingdom
GEO:51.716632;0.580293
X-APPLE-STRUCTURED-LOCATION;VALUE=URI;X-ADDRESS=Main Road\, Danbury\, Essex
 \, CM3 4NQ\, United Kingdom;X-APPLE-RADIUS=100;X-TITLE=Danbury Village Hal
 l:geo:51.716632,0.580293
END:VEVENT
BEGIN:VEVENT
UID:541@g0mwt.org.uk
DTSTART;TZID=Europe/London:20240328T190000
DTEND;TZID=Europe/London:20240328T210000
DTSTAMP:20240119T135430Z
URL:http://www.g0mwt.org.uk/main/events/foundation-fast-track-3-2024-03-28
 /
SUMMARY:Foundation Fast Track
DESCRIPTION:CARS fast-track revision course for Foundation candidates  - h
 eld over two consecutive Thursday evenings at Danbury Village Hall.\n\n&nb
 sp\;\n\nNOTE: Subject  to demand - please contact our coordinator John M0
 JOC asap - see www.g0mwt.org.uk/training\n\n&nbsp\;
CATEGORIES:Training
LOCATION:Danbury Village Hall\, Main Road\, Danbury\, Essex\, CM3 4NQ\, Uni
 ted Kingdom
GEO:51.716632;0.580293
X-APPLE-STRUCTURED-LOCATION;VALUE=URI;X-ADDRESS=Main Road\, Danbury\, Essex
 \, CM3 4NQ\, United Kingdom;X-APPLE-RADIUS=100;X-TITLE=Danbury Village Hal
 l:geo:51.716632,0.580293
END:VEVENT
BEGIN:VEVENT
UID:546@g0mwt.org.uk
DTSTART;TZID=Europe/London:20241010T190000
DTEND;TZID=Europe/London:20241010T210000
DTSTAMP:20240624T114113Z
URL:http://www.g0mwt.org.uk/main/events/intermediate-fast-track/
SUMMARY:Intermediate Fast-track
DESCRIPTION:CARS fast-track training revision course for Intermediate exam 
 candidates  – held over three consecutive Thursday evenings at Danbury 
 Village Hall.\n\nMore info is on our main Training Page
CATEGORIES:Training
LOCATION:Danbury Village Hall\, Main Road\, Danbury\, Essex\, CM3 4NQ\, Uni
 ted Kingdom
GEO:51.716632;0.580293
X-APPLE-STRUCTURED-LOCATION;VALUE=URI;X-ADDRESS=Main Road\, Danbury\, Essex
 \, CM3 4NQ\, United Kingdom;X-APPLE-RADIUS=100;X-TITLE=Danbury Village Hal
 l:geo:51.716632,0.580293
END:VEVENT
BEGIN:VEVENT
UID:547@g0mwt.org.uk
DTSTART;TZID=Europe/London:20241017T190000
DTEND;TZID=Europe/London:20241017T210000
DTSTAMP:20240624T114206Z
URL:http://www.g0mwt.org.uk/main/events/intermediate-fast-track-2/
SUMMARY:Intermediate Fast-track
DESCRIPTION:CARS fast-track training revision course for Intermediate exam 
 candidates  – held over three consecutive Thursday evenings at Danbury 
 Village Hall.\n\nMore info is on our main Training Page
CATEGORIES:Training
LOCATION:Danbury Village Hall\, Main Road\, Danbury\, Essex\, CM3 4NQ\, Uni
 ted Kingdom
GEO:51.716632;0.580293
X-APPLE-STRUCTURED-LOCATION;VALUE=URI;X-ADDRESS=Main Road\, Danbury\, Essex
 \, CM3 4NQ\, United Kingdom;X-APPLE-RADIUS=100;X-TITLE=Danbury Village Hal
 l:geo:51.716632,0.580293
END:VEVENT
BEGIN:VEVENT
UID:548@g0mwt.org.uk
DTSTART;TZID=Europe/London:20241024T190000
DTEND;TZID=Europe/London:20241024T210000
DTSTAMP:20240624T114633Z
URL:http://www.g0mwt.org.uk/main/events/intermediate-fast-track-3/
SUMMARY:Intermediate Fast-track
DESCRIPTION:CARS fast-track training revision course for Intermediate exam 
 candidates  – held over three consecutive Thursday evenings at Danbury 
 Village Hall.\n\nMore info is on our main Training Page
CATEGORIES:Training
LOCATION:Danbury Village Hall\, Main Road\, Danbury\, Essex\, CM3 4NQ\, Uni
 ted Kingdom
GEO:51.716632;0.580293
X-APPLE-STRUCTURED-LOCATION;VALUE=URI;X-ADDRESS=Main Road\, Danbury\, Essex
 \, CM3 4NQ\, United Kingdom;X-APPLE-RADIUS=100;X-TITLE=Danbury Village Hal
 l:geo:51.716632,0.580293
END:VEVENT
BEGIN:VEVENT
UID:551@g0mwt.org.uk
DTSTART;TZID=Europe/London:20250206T190000
DTEND;TZID=Europe/London:20250206T210000
DTSTAMP:20241213T133331Z
URL:http://www.g0mwt.org.uk/main/events/foundation-exam-prep-2025-02-06/
SUMMARY:Foundation Exam Prep
DESCRIPTION:A three week course focussing on exam techniques\, revision and
  exam preparation. This course is ideal for Foundation candidates who have
  undertaken self-study and who wish to consolidate their knowledge with fa
 ce-to-face training.\n\nMore info at  www.g0mwt.org.uk/training/
CATEGORIES:Training
LOCATION:Danbury Village Hall\, Main Road\, Danbury\, Essex\, CM3 4NQ\, Uni
 ted Kingdom
GEO:51.716632;0.580293
X-APPLE-STRUCTURED-LOCATION;VALUE=URI;X-ADDRESS=Main Road\, Danbury\, Essex
 \, CM3 4NQ\, United Kingdom;X-APPLE-RADIUS=100;X-TITLE=Danbury Village Hal
 l:geo:51.716632,0.580293
END:VEVENT
BEGIN:VEVENT
UID:552@g0mwt.org.uk
DTSTART;TZID=Europe/London:20250213T190000
DTEND;TZID=Europe/London:20250213T210000
DTSTAMP:20241213T133331Z
URL:http://www.g0mwt.org.uk/main/events/foundation-exam-prep-2025-02-13/
SUMMARY:Foundation Exam Prep
DESCRIPTION:A three week course focussing on exam techniques\, revision and
  exam preparation. This course is ideal for Foundation candidates who have
  undertaken self-study and who wish to consolidate their knowledge with fa
 ce-to-face training.\n\nMore info at  www.g0mwt.org.uk/training/
CATEGORIES:Training
LOCATION:Danbury Village Hall\, Main Road\, Danbury\, Essex\, CM3 4NQ\, Uni
 ted Kingdom
GEO:51.716632;0.580293
X-APPLE-STRUCTURED-LOCATION;VALUE=URI;X-ADDRESS=Main Road\, Danbury\, Essex
 \, CM3 4NQ\, United Kingdom;X-APPLE-RADIUS=100;X-TITLE=Danbury Village Hal
 l:geo:51.716632,0.580293
END:VEVENT
BEGIN:VEVENT
UID:553@g0mwt.org.uk
DTSTART;TZID=Europe/London:20250220T190000
DTEND;TZID=Europe/London:20250220T210000
DTSTAMP:20241213T133331Z
URL:http://www.g0mwt.org.uk/main/events/foundation-exam-prep-2025-02-20/
SUMMARY:Foundation Exam Prep
DESCRIPTION:A three week course focussing on exam techniques\, revision and
  exam preparation. This course is ideal for Foundation candidates who have
  undertaken self-study and who wish to consolidate their knowledge with fa
 ce-to-face training.\n\nMore info at  www.g0mwt.org.uk/training/
CATEGORIES:Training
LOCATION:Danbury Village Hall\, Main Road\, Danbury\, Essex\, CM3 4NQ\, Uni
 ted Kingdom
GEO:51.716632;0.580293
X-APPLE-STRUCTURED-LOCATION;VALUE=URI;X-ADDRESS=Main Road\, Danbury\, Essex
 \, CM3 4NQ\, United Kingdom;X-APPLE-RADIUS=100;X-TITLE=Danbury Village Hal
 l:geo:51.716632,0.580293
END:VEVENT
BEGIN:VEVENT
UID:554@g0mwt.org.uk
DTSTART;TZID=Europe/London:20250320T190000
DTEND;TZID=Europe/London:20250320T210000
DTSTAMP:20241213T134005Z
URL:http://www.g0mwt.org.uk/main/events/intermediate-full-exam-prep/
SUMMARY:Intermediate/Full Exam Prep
DESCRIPTION:Enquiries for Intermediate/Full Licence Exam prep/technique are
  invited for March 2025 (dates tbc).\n\nThis will be a three week course f
 ocussing on exam techniques\, revision and exam preparation/how to pass. T
 his course is ideal for candidates who have undertaken self-study and who 
 wish to consolidate their knowledge with face-to-face training.\n\n&nbsp\;
CATEGORIES:Training
LOCATION:Danbury Village Hall\, Main Road\, Danbury\, Essex\, CM3 4NQ\, Uni
 ted Kingdom
GEO:51.716632;0.580293
X-APPLE-STRUCTURED-LOCATION;VALUE=URI;X-ADDRESS=Main Road\, Danbury\, Essex
 \, CM3 4NQ\, United Kingdom;X-APPLE-RADIUS=100;X-TITLE=Danbury Village Hal
 l:geo:51.716632,0.580293
END:VEVENT
BEGIN:VEVENT
UID:689@g0mwt.org.uk
DTSTART;TZID=Europe/London:20260205T190000
DTEND;TZID=Europe/London:20260205T210000
DTSTAMP:20251203T141908Z
URL:http://www.g0mwt.org.uk/main/events/intermediate-full-fast-track-3-202
 6-02-05/
SUMMARY:Intermediate/Full Fast Track
DESCRIPTION:CARS fast-track revision course for Intermediate/Full candidate
 s  - held over three consecutive Thursday evenings at Danbury Village Hal
 l.   - tbc
CATEGORIES:Training
LOCATION:Danbury Village Hall\, Main Road\, Danbury\, Essex\, CM3 4NQ\, Uni
 ted Kingdom
GEO:51.716632;0.580293
X-APPLE-STRUCTURED-LOCATION;VALUE=URI;X-ADDRESS=Main Road\, Danbury\, Essex
 \, CM3 4NQ\, United Kingdom;X-APPLE-RADIUS=100;X-TITLE=Danbury Village Hal
 l:geo:51.716632,0.580293
END:VEVENT
BEGIN:VEVENT
UID:690@g0mwt.org.uk
DTSTART;TZID=Europe/London:20260212T190000
DTEND;TZID=Europe/London:20260212T210000
DTSTAMP:20251203T141908Z
URL:http://www.g0mwt.org.uk/main/events/intermediate-full-fast-track-3-202
 6-02-05-2026-02-12/
SUMMARY:Intermediate/Full Fast Track
DESCRIPTION:CARS fast-track revision course for Intermediate/Full candidate
 s  - held over three consecutive Thursday evenings at Danbury Village Hal
 l.   - tbc
CATEGORIES:Training
LOCATION:Danbury Village Hall\, Main Road\, Danbury\, Essex\, CM3 4NQ\, Uni
 ted Kingdom
GEO:51.716632;0.580293
X-APPLE-STRUCTURED-LOCATION;VALUE=URI;X-ADDRESS=Main Road\, Danbury\, Essex
 \, CM3 4NQ\, United Kingdom;X-APPLE-RADIUS=100;X-TITLE=Danbury Village Hal
 l:geo:51.716632,0.580293
END:VEVENT
BEGIN:VEVENT
UID:691@g0mwt.org.uk
DTSTART;TZID=Europe/London:20260219T190000
DTEND;TZID=Europe/London:20260219T210000
DTSTAMP:20251203T141908Z
URL:http://www.g0mwt.org.uk/main/events/intermediate-full-fast-track-3-202
 6-02-05-2026-02-12-2026-02-19/
SUMMARY:Intermediate/Full Fast Track
DESCRIPTION:CARS fast-track revision course for Intermediate/Full candidate
 s  - held over three consecutive Thursday evenings at Danbury Village Hal
 l.   - tbc
CATEGORIES:Training
LOCATION:Danbury Village Hall\, Main Road\, Danbury\, Essex\, CM3 4NQ\, Uni
 ted Kingdom
GEO:51.716632;0.580293
X-APPLE-STRUCTURED-LOCATION;VALUE=URI;X-ADDRESS=Main Road\, Danbury\, Essex
 \, CM3 4NQ\, United Kingdom;X-APPLE-RADIUS=100;X-TITLE=Danbury Village Hal
 l:geo:51.716632,0.580293
END:VEVENT
BEGIN:VTIMEZONE
TZID:Europe/London
X-LIC-LOCATION:Europe/London
BEGIN:DAYLIGHT
DTSTART:20210328T020000
TZOFFSETFROM:+0000
TZOFFSETTO:+0100
TZNAME:BST
END:DAYLIGHT
BEGIN:STANDARD
DTSTART:20211031T010000
TZOFFSETFROM:+0100
TZOFFSETTO:+0000
TZNAME:GMT
END:STANDARD
BEGIN:DAYLIGHT
DTSTART:20220327T020000
TZOFFSETFROM:+0000
TZOFFSETTO:+0100
TZNAME:BST
END:DAYLIGHT
BEGIN:STANDARD
DTSTART:20221030T010000
TZOFFSETFROM:+0100
TZOFFSETTO:+0000
TZNAME:GMT
END:STANDARD
BEGIN:DAYLIGHT
DTSTART:20230326T020000
TZOFFSETFROM:+0000
TZOFFSETTO:+0100
TZNAME:BST
END:DAYLIGHT
BEGIN:STANDARD
DTSTART:20231029T010000
TZOFFSETFROM:+0100
TZOFFSETTO:+0000
TZNAME:GMT
END:STANDARD
BEGIN:DAYLIGHT
DTSTART:20240331T020000
TZOFFSETFROM:+0000
TZOFFSETTO:+0100
TZNAME:BST
END:DAYLIGHT
BEGIN:STANDARD
DTSTART:20241027T010000
TZOFFSETFROM:+0100
TZOFFSETTO:+0000
TZNAME:GMT
END:STANDARD
BEGIN:DAYLIGHT
DTSTART:20250330T020000
TZOFFSETFROM:+0000
TZOFFSETTO:+0100
TZNAME:BST
END:DAYLIGHT
BEGIN:STANDARD
DTSTART:20251026T010000
TZOFFSETFROM:+0100
TZOFFSETTO:+0000
TZNAME:GMT
END:STANDARD
END:VTIMEZONE
END:VCALENDAR