BEGIN:VCALENDAR
VERSION:2.0
PRODID:-//wp-events-plugin.com//7.2.3.1//EN
TZID:Europe/London
X-WR-TIMEZONE:Europe/London
BEGIN:VEVENT
UID:693@g0mwt.org.uk
DTSTART;TZID=Europe/London:20260425T100000
DTEND;TZID=Europe/London:20260425T160000
DTSTAMP:20251218T130108Z
URL:http://www.g0mwt.org.uk/main/events/imd-international-marconi-day-6/
SUMMARY:IMD - International Marconi Day
DESCRIPTION:International Marconi Day (IMD) - CARS will be registered as an
  award station using GX0MWT\n\n&nbsp\;\n\nNotes: \n\n 	This year IMD (whic
 h uses the nearest Saturday) precisely aligns with Marconi's birth on Apri
 l 25\, 1874    - 152 years ago\n 	IMD Organisers info:   https://gx4cr
 c.com/imd/\n 	Venue arrangements tbc\n
CATEGORIES:Events
LOCATION:BAE AI-Labs\, West Hanningfield Road\, Great Baddow\, Essex\, CM2 
 8HN\, United Kingdom
GEO:51.707562;0.497989
X-APPLE-STRUCTURED-LOCATION;VALUE=URI;X-ADDRESS=West Hanningfield Road\, Gr
 eat Baddow\, Essex\, CM2 8HN\, United Kingdom;X-APPLE-RADIUS=100;X-TITLE=B
 AE AI-Labs:geo:51.707562,0.497989
END:VEVENT
BEGIN:VTIMEZONE
TZID:Europe/London
X-LIC-LOCATION:Europe/London
BEGIN:DAYLIGHT
DTSTART:20260329T020000
TZOFFSETFROM:+0000
TZOFFSETTO:+0100
TZNAME:BST
END:DAYLIGHT
END:VTIMEZONE
END:VCALENDAR