BEGIN:VCALENDAR
VERSION:2.0
PRODID:-//wp-events-plugin.com//7.2.3.1//EN
TZID:Europe/London
X-WR-TIMEZONE:Europe/London
BEGIN:VEVENT
UID:594@g0mwt.org.uk
DTSTART;TZID=Europe/London:20260505T193000
DTEND;TZID=Europe/London:20260505T213000
DTSTAMP:20251211T011751Z
URL:http://www.g0mwt.org.uk/main/events/meeting-how-low-can-you-go/
SUMMARY:Meeting: How Low Can You Go
DESCRIPTION:Andy Tyler G1GKN will give a talk on the Low Frequency world be
 low the 160m amateur band\n\nAmateurs have allocations at 136 and 472 kHz\
 , whilst for example many clocks use the 60kHz time signal\, but there are
  all sorts of other things too...\n\nAll welcome - Raffle and Refreshment
 s too\n\n&nbsp\;\n\nNOTE: Date tbc - was originally Nov-2025\n\n&nbsp\;
CATEGORIES:Meetings
LOCATION:Danbury Village Hall\, Main Road\, Danbury\, Essex\, CM3 4NQ\, Uni
 ted Kingdom
GEO:51.716632;0.580293
X-APPLE-STRUCTURED-LOCATION;VALUE=URI;X-ADDRESS=Main Road\, Danbury\, Essex
 \, CM3 4NQ\, United Kingdom;X-APPLE-RADIUS=100;X-TITLE=Danbury Village Hal
 l:geo:51.716632,0.580293
END:VEVENT
BEGIN:VTIMEZONE
TZID:Europe/London
X-LIC-LOCATION:Europe/London
BEGIN:DAYLIGHT
DTSTART:20260329T020000
TZOFFSETFROM:+0000
TZOFFSETTO:+0100
TZNAME:BST
END:DAYLIGHT
END:VTIMEZONE
END:VCALENDAR