BEGIN:VCALENDAR
VERSION:2.0
PRODID:-//wp-events-plugin.com//7.2.3.1//EN
TZID:Europe/London
X-WR-TIMEZONE:Europe/London
BEGIN:VEVENT
UID:593@g0mwt.org.uk
DTSTART;TZID=Europe/London:20250603T193000
DTEND;TZID=Europe/London:20250603T213000
DTSTAMP:20250409T221349Z
URL:http://www.g0mwt.org.uk/main/events/meeting-practical-skills-night-3/
SUMMARY:Meeting: Practical/Skills Night
DESCRIPTION:Get Hands On!\n\nOpportunities to build radio kits or coax bits
 \, show/tell\, buy surplus items or socialise and try our Quiz / Raffle\n\
 nAll Welcome\n\n&nbsp\;
CATEGORIES:Meetings
LOCATION:Danbury Village Hall\, Main Road\, Danbury\, Essex\, CM3 4NQ\, Uni
 ted Kingdom
GEO:51.716632;0.580293
X-APPLE-STRUCTURED-LOCATION;VALUE=URI;X-ADDRESS=Main Road\, Danbury\, Essex
 \, CM3 4NQ\, United Kingdom;X-APPLE-RADIUS=100;X-TITLE=Danbury Village Hal
 l:geo:51.716632,0.580293
END:VEVENT
BEGIN:VTIMEZONE
TZID:Europe/London
X-LIC-LOCATION:Europe/London
BEGIN:DAYLIGHT
DTSTART:20250330T020000
TZOFFSETFROM:+0000
TZOFFSETTO:+0100
TZNAME:BST
END:DAYLIGHT
END:VTIMEZONE
END:VCALENDAR