BEGIN:VCALENDAR
VERSION:2.0
PRODID:-//wp-events-plugin.com//7.2.3.1//EN
TZID:Europe/London
X-WR-TIMEZONE:Europe/London
BEGIN:VEVENT
UID:258@g0mwt.org.uk
DTSTART;TZID=Europe/London:20230808T193000
DTEND;TZID=Europe/London:20230808T210000
DTSTAMP:20230510T170807Z
URL:http://www.g0mwt.org.uk/main/events/meeting-social-chinese-meal/
SUMMARY:Meeting: Social - Chinese Meal
DESCRIPTION:Something different! - Join your friends for a Chinese Meal in 
 Moulsham Street Chelmsford.\n\nNotes:\n\n 	£10 deposit required beforehan
 d - Coordinator Paul G4PVM\n 	Date: Note that is on the second Tuesday\, 8
 th August   (instead of Aug 1st)\n
CATEGORIES:Meetings
LOCATION:San Restaurant\, 136 Moulsham Street\, Chelmsford\, Essex\, CM2 0J
 T\, United Kingdom
GEO:51.727112;0.467581
X-APPLE-STRUCTURED-LOCATION;VALUE=URI;X-ADDRESS=136 Moulsham Street\, Chelm
 sford\, Essex\, CM2 0JT\, United Kingdom;X-APPLE-RADIUS=100;X-TITLE=San Re
 staurant:geo:51.727112,0.467581
END:VEVENT
BEGIN:VTIMEZONE
TZID:Europe/London
X-LIC-LOCATION:Europe/London
BEGIN:DAYLIGHT
DTSTART:20230326T020000
TZOFFSETFROM:+0000
TZOFFSETTO:+0100
TZNAME:BST
END:DAYLIGHT
END:VTIMEZONE
END:VCALENDAR