BEGIN:VCALENDAR
VERSION:2.0
PRODID:-//wp-events-plugin.com//7.2.3.1//EN
TZID:Europe/London
X-WR-TIMEZONE:Europe/London
BEGIN:VEVENT
UID:193@g0mwt.org.uk
DTSTART;TZID=Europe/London:20201201T193000
DTEND;TZID=Europe/London:20201201T210000
DTSTAMP:20201127T130636Z
URL:http://www.g0mwt.org.uk/main/events/meeting-xmas-talk/
SUMMARY:Meeting: Xmas Talks
DESCRIPTION:\n 	VHF Propagation by Chris G0IPU/Steve G0KYA\n 	RSGB topical 
 info from our local Region-12 reps\n\nOnline by Zoom\n\n 	Meeting ID:   8
 69 1311 0258\n 	Passcode:   240989\n
CATEGORIES:Meetings
LOCATION:http://www.g0mwt.org.uk
END:VEVENT
BEGIN:VTIMEZONE
TZID:Europe/London
X-LIC-LOCATION:Europe/London
BEGIN:STANDARD
DTSTART:20201025T010000
TZOFFSETFROM:+0100
TZOFFSETTO:+0000
TZNAME:GMT
END:STANDARD
END:VTIMEZONE
END:VCALENDAR